BEGIN:VCALENDAR
PRODID:-//AT Content Types//AT Event//EN
VERSION:2.0
METHOD:PUBLISH
BEGIN:VEVENT
DTSTAMP:20260422T230237Z
CREATED:20160229T130245Z
UID:ATEvent-5fd93e29790940a2a3954f1449e2ae74
LAST-MODIFIED:20160229T130250Z
SUMMARY:Roda de premsa
DTSTART:20160301T163000Z
DTEND:20160301T163000Z
LOCATION:Nova seu Planta 0 sala de premsa
CLASS:PUBLIC
END:VEVENT
END:VCALENDAR
