BEGIN:VCALENDAR
PRODID:-//AT Content Types//AT Event//EN
VERSION:1.0
BEGIN:VEVENT
DTSTART:20151201T170000Z
DTEND:20151201T170000Z
DCREATED:20151127T110944Z
UID:ATEvent-7233b2875450459b9b7ae0d5c4fb180b
SEQUENCE:0
LAST-MODIFIED:20151127T110951Z
SUMMARY:Roda de premsa
LOCATION:Nova seu Planta 0 sala de premsa
PRIORITY:3
TRANSP:0
END:VEVENT
END:VCALENDAR
