BEGIN:VCALENDAR
PRODID:-//AT Content Types//AT Event//EN
VERSION:2.0
METHOD:PUBLISH
BEGIN:VEVENT
DTSTAMP:20260420T021444Z
CREATED:20151123T100620Z
UID:ATEvent-0e2bad69e9b5492bade1575ce4cf17cc
LAST-MODIFIED:20151123T100624Z
SUMMARY:Roda de premsa
DTSTART:20151124T110000Z
DTEND:20151124T110000Z
LOCATION:Nova seu Planta 0 sala de premsa
CLASS:PUBLIC
END:VEVENT
END:VCALENDAR
