BEGIN:VCALENDAR
PRODID:-//AT Content Types//AT Event//EN
VERSION:2.0
METHOD:PUBLISH
BEGIN:VEVENT
DTSTAMP:20260426T035322Z
CREATED:20151006T111625Z
UID:ATEvent-94250442810147d999e7a911b6b54b6c
LAST-MODIFIED:20151006T111629Z
SUMMARY:Roda de premsa
DTSTART:20150929T143000Z
DTEND:20150929T143000Z
LOCATION:Nova seu Planta 0 sala de premsa
CLASS:PUBLIC
END:VEVENT
END:VCALENDAR
