BEGIN:VCALENDAR
PRODID:-//AT Content Types//AT Event//EN
VERSION:1.0
BEGIN:VEVENT
DTSTART:20150526T143000Z
DTEND:20150526T143000Z
DCREATED:20150526T082352Z
UID:ATEvent-4aab8cedb31547a7bfa48c5180f773a9
SEQUENCE:0
LAST-MODIFIED:20150526T082406Z
SUMMARY:Roda de premsa
LOCATION:Nova seu planta 0 sala de premsa
PRIORITY:3
TRANSP:0
END:VEVENT
END:VCALENDAR
