BEGIN:VCALENDAR
PRODID:-//AT Content Types//AT Event//EN
VERSION:1.0
BEGIN:VEVENT
DTSTART:20150505T093000Z
DTEND:20150505T093000Z
DCREATED:20150505T082853Z
UID:ATEvent-cac2710ecb124668a723b2c0328f38ad
SEQUENCE:0
LAST-MODIFIED:20150505T082857Z
SUMMARY:Roda de premsa
LOCATION:Nova seu planta 0 sala de premsa
PRIORITY:3
TRANSP:0
END:VEVENT
END:VCALENDAR
