BEGIN:VCALENDAR
PRODID:-//AT Content Types//AT Event//EN
VERSION:1.0
BEGIN:VEVENT
DTSTART:20231024T160000Z
DTEND:20231024T170000Z
DCREATED:20230918T111659Z
UID:ATEvent-21ccc1f164984187b6dc1a43633c4bc7
SEQUENCE:0
LAST-MODIFIED:20231023T153608Z
SUMMARY:Reunió ordinària de la Comissió Legislativa de Política Territorial\, Urbanisme i Medi Ambient
DESCRIPTION:Compareixença del M.I. Sr. Guillem Casal Font\, Ministre 
 de Medi\nAmbient\, Agricultura i Ramaderia
PRIORITY:3
TRANSP:0
END:VEVENT
END:VCALENDAR
