BEGIN:VCALENDAR
PRODID:-//AT Content Types//AT Event//EN
VERSION:2.0
METHOD:PUBLISH
BEGIN:VEVENT
DTSTAMP:20260422T082355Z
CREATED:20170320T085114Z
UID:ATEvent-d348631c06a2454ab814948d5903236c
LAST-MODIFIED:20170320T085116Z
SUMMARY:Reunió Govern-Comuns-Consell General
DTSTART:20170320T090000Z
DTEND:20170320T090000Z
LOCATION:Nova seu planta 2 sala de la Junta de Presidents
CLASS:PUBLIC
END:VEVENT
END:VCALENDAR
