BEGIN:VCALENDAR
PRODID:-//AT Content Types//AT Event//EN
VERSION:2.0
METHOD:PUBLISH
BEGIN:VEVENT
DTSTAMP:20260422T140012Z
CREATED:20170410T102411Z
UID:ATEvent-c32e640f3e8e4aa99151cc5213bdb628
LAST-MODIFIED:20170410T102414Z
SUMMARY:Reunió Govern-Comuns-Consell General
DTSTART:20170424T070000Z
DTEND:20170424T070000Z
LOCATION:Nova seu planta 2 sala de la Junta de Presidents
CLASS:PUBLIC
END:VEVENT
END:VCALENDAR
