BEGIN:VCALENDAR
PRODID:-//AT Content Types//AT Event//EN
VERSION:2.0
METHOD:PUBLISH
BEGIN:VEVENT
DTSTAMP:20260423T154205Z
CREATED:20170330T103117Z
UID:ATEvent-2197febc93a04beeb9115c44bd8ade9d
LAST-MODIFIED:20170330T103120Z
SUMMARY:Reunió Govern-Comuns-Consell General
DTSTART:20170403T060000Z
DTEND:20170403T060000Z
LOCATION:Nova seu planta 2 sala de la Junta de Presidents
CLASS:PUBLIC
END:VEVENT
END:VCALENDAR
