BEGIN:VCALENDAR
PRODID:-//AT Content Types//AT Event//EN
VERSION:2.0
METHOD:PUBLISH
BEGIN:VEVENT
DTSTAMP:20260419T180939Z
CREATED:20170306T130939Z
UID:ATEvent-3854c7a3df89496184de9e4837b213e9
LAST-MODIFIED:20170306T130946Z
SUMMARY:Reunió de les comissions del 15è Consell General dels Joves
DTSTART:20170308T080000Z
DTEND:20170308T080000Z
LOCATION:Nova seu Planta -3
CLASS:PUBLIC
END:VEVENT
END:VCALENDAR
