BEGIN:VCALENDAR
PRODID:-//AT Content Types//AT Event//EN
VERSION:2.0
METHOD:PUBLISH
BEGIN:VEVENT
DTSTAMP:20260422T140149Z
CREATED:20250402T155617Z
UID:ATEvent-0df8773a468b4075a8e87e1ef92e66fe
LAST-MODIFIED:20250402T155619Z
SUMMARY:Reunió de la Junta de Presidents
DTSTART:20250506T140000Z
DTEND:20250506T153000Z
CLASS:PUBLIC
END:VEVENT
END:VCALENDAR
