BEGIN:VCALENDAR
PRODID:-//AT Content Types//AT Event//EN
VERSION:1.0
BEGIN:VEVENT
DTSTART:20231026T150000Z
DTEND:20231026T170000Z
DCREATED:20230911T153116Z
UID:ATEvent-164416bc1c3c49c1b0848fb03b2843e6
SEQUENCE:0
LAST-MODIFIED:20231026T161155Z
SUMMARY:Comissió Legislativa d'Economia
DESCRIPTION:Andorra la Vella\, 17 d'octubre del 2023
PRIORITY:3
TRANSP:0
END:VEVENT
END:VCALENDAR
