BEGIN:VCALENDAR
PRODID:-//AT Content Types//AT Event//EN
VERSION:1.0
BEGIN:VEVENT
DTSTART:20230614T071500Z
DTEND:20230614T081500Z
DCREATED:20230613T090018Z
UID:ATEvent-f000ef1223ef42c286e3bace0469eaef
SEQUENCE:0
LAST-MODIFIED:20230613T090024Z
SUMMARY:Reunió de la Comissió Legislativa de seguiment i sostenibilitat de les pensions de la Caixa Andorrana de Seguretat Socia
PRIORITY:3
TRANSP:0
END:VEVENT
END:VCALENDAR
