BEGIN:VCALENDAR
PRODID:-//AT Content Types//AT Event//EN
VERSION:2.0
METHOD:PUBLISH
BEGIN:VEVENT
DTSTAMP:20260419T201002Z
CREATED:20230714T132812Z
UID:ATEvent-983769201af0420ebebb3a339190e615
LAST-MODIFIED:20230829T102853Z
SUMMARY:Reunió de la Comissió Legislativa de Justícia\, Interior i Afers Institucionals
DTSTART:20230920T093000Z
DTEND:20230920T123000Z
CLASS:PUBLIC
END:VEVENT
END:VCALENDAR
