BEGIN:VCALENDAR
PRODID:-//AT Content Types//AT Event//EN
VERSION:1.0
BEGIN:VEVENT
DTSTART:20230921T073000Z
DTEND:20230921T083500Z
DCREATED:20230714T133559Z
UID:ATEvent-3601ec9ca8424653b6af38f9ea50b61c
SEQUENCE:0
LAST-MODIFIED:20230714T133602Z
SUMMARY:Reunió de la Comissió Legislativa de Finances i Pressupost
PRIORITY:3
TRANSP:0
END:VEVENT
END:VCALENDAR
