BEGIN:VCALENDAR
PRODID:-//AT Content Types//AT Event//EN
VERSION:1.0
BEGIN:VEVENT
DTSTART:20230613T123000Z
DTEND:20230613T133000Z
DCREATED:20230609T113814Z
UID:ATEvent-994887f956bc4ca4a88258c5eda79217
SEQUENCE:0
LAST-MODIFIED:20230612T075745Z
SUMMARY:Reunió de la Comissió Legislativa d’Educació\, Recerca\, Cultura\, Joventut i Esports
PRIORITY:3
TRANSP:0
END:VEVENT
END:VCALENDAR
