BEGIN:VCALENDAR
PRODID:-//AT Content Types//AT Event//EN
VERSION:2.0
METHOD:PUBLISH
BEGIN:VEVENT
DTSTAMP:20260419T124804Z
CREATED:20230626T070657Z
UID:ATEvent-d523ffa959a0495eb67af16c96f2655b
LAST-MODIFIED:20230627T112647Z
SUMMARY:Reunió de la Comissió Legislativa d’Afers Socials i Igualtat
DTSTART:20230626T130000Z
DTEND:20230626T140500Z
CLASS:PUBLIC
END:VEVENT
END:VCALENDAR
