BEGIN:VCALENDAR
PRODID:-//AT Content Types//AT Event//EN
VERSION:2.0
METHOD:PUBLISH
BEGIN:VEVENT
DTSTAMP:20260419T220748Z
CREATED:20240716T120137Z
UID:ATEvent-40fcebebae1f407faa6ddc9a173db42d
LAST-MODIFIED:20240716T120325Z
SUMMARY:Comissió Permanent
DTSTART:20240830T073000Z
DTEND:20240830T083000Z
CLASS:PUBLIC
END:VEVENT
END:VCALENDAR
