BEGIN:VCALENDAR
PRODID:-//AT Content Types//AT Event//EN
VERSION:1.0
BEGIN:VEVENT
DTSTART:20150314T180000Z
DTEND:20150314T180000Z
DCREATED:20150311T081310Z
UID:ATEvent-5f2652eee7da422ca13a79916748acb7
SEQUENCE:0
LAST-MODIFIED:20150311T081314Z
SUMMARY:Recepció oficial
LOCATION:Nou edifici del Consell General
PRIORITY:3
TRANSP:0
END:VEVENT
END:VCALENDAR
