BEGIN:VCALENDAR
PRODID:-//AT Content Types//AT Event//EN
VERSION:1.0
BEGIN:VEVENT
DTSTART:20231130T110000Z
DTEND:20231130T114500Z
DCREATED:20231128T113428Z
UID:ATEvent-a59a19d390654bb4b856c9cf7b201955
SEQUENCE:0
LAST-MODIFIED:20231128T120611Z
SUMMARY:Roda de premsa del Grup Parlamentari Socialdemòcrata
PRIORITY:3
TRANSP:0
END:VEVENT
END:VCALENDAR
