BEGIN:VCALENDAR
PRODID:-//AT Content Types//AT Event//EN
VERSION:1.0
BEGIN:VEVENT
DTSTART:20170622T133000Z
DTEND:20170622T133000Z
DCREATED:20170203T101722Z
UID:ATEvent-96a80e8ad8954825a38774bea80df3eb
SEQUENCE:0
LAST-MODIFIED:20170619T104906Z
SUMMARY:Sessió ordinària del Consell General
LOCATION:Nova seu Planta -2 Hemicicle
PRIORITY:3
TRANSP:0
END:VEVENT
END:VCALENDAR
