BEGIN:VCALENDAR
PRODID:-//AT Content Types//AT Event//EN
VERSION:1.0
BEGIN:VEVENT
DTSTART:20221222T150000Z
DTEND:20221222T150000Z
DCREATED:20220907T165323Z
UID:ATEvent-9002d4208c13458fbe958c2e11d74c16
SEQUENCE:0
LAST-MODIFIED:20221219T142256Z
SUMMARY:Sessió ordinària del Consell General
LOCATION:Nova seu Planta -2 Hemicicle
PRIORITY:3
TRANSP:0
END:VEVENT
END:VCALENDAR
