BEGIN:VCALENDAR
PRODID:-//AT Content Types//AT Event//EN
VERSION:1.0
BEGIN:VEVENT
DTSTART:20230119T083000Z
DTEND:20230119T083000Z
DCREATED:20220907T165119Z
UID:ATEvent-d5138af9799c4a318c7bf5d955a89a3e
SEQUENCE:0
LAST-MODIFIED:20230118T073204Z
SUMMARY:Sessió ordinària del Consell General
LOCATION:Nova seu Planta -2 Hemicicle
PRIORITY:3
TRANSP:0
END:VEVENT
END:VCALENDAR
