BEGIN:VCALENDAR
PRODID:-//AT Content Types//AT Event//EN
VERSION:2.0
METHOD:PUBLISH
BEGIN:VEVENT
DTSTAMP:20260426T035510Z
CREATED:20220907T164706Z
UID:ATEvent-79d2c0bb29c5452d9bf16c9d32abf6ba
LAST-MODIFIED:20221109T155040Z
SUMMARY:Sessió ordinària del Consell General
DTSTART:20221110T150000Z
DTEND:20221110T150000Z
LOCATION:Nova seu Planta -2 Hemicicle
CLASS:PUBLIC
END:VEVENT
END:VCALENDAR
