BEGIN:VCALENDAR
PRODID:-//AT Content Types//AT Event//EN
VERSION:2.0
METHOD:PUBLISH
BEGIN:VEVENT
DTSTAMP:20260423T122429Z
CREATED:20200909T160613Z
UID:ATEvent-2013d2e5f7d443abb9f9bae8a5e17df5
LAST-MODIFIED:20201027T094026Z
SUMMARY:Sessió ordinària del Consell  General
DTSTART:20201029T150000Z
DTEND:20201029T150000Z
LOCATION:Nova seu Planta -2 Hemicicle
CLASS:PUBLIC
END:VEVENT
END:VCALENDAR
