BEGIN:VCALENDAR
PRODID:-//AT Content Types//AT Event//EN
VERSION:1.0
BEGIN:VEVENT
DTSTART:20220714T140000Z
DTEND:20220714T140000Z
DCREATED:20220112T103715Z
UID:ATEvent-6474b2095c3a4b7ab7f65d527638a96c
SEQUENCE:0
LAST-MODIFIED:20220711T151331Z
SUMMARY:Sessió ordinària del Consell General
LOCATION:Nova seu Planta -2 Hemicicle
PRIORITY:3
TRANSP:0
END:VEVENT
END:VCALENDAR
