BEGIN:VCALENDAR
PRODID:-//AT Content Types//AT Event//EN
VERSION:2.0
METHOD:PUBLISH
BEGIN:VEVENT
DTSTAMP:20260424T183812Z
CREATED:20200108T163509Z
UID:ATEvent-a3164cda744f40ebba4295b09aa591ad
LAST-MODIFIED:20201006T135913Z
SUMMARY:Sessió ordinària del Consell  General
DTSTART:20201008T140000Z
DTEND:20201008T140000Z
LOCATION:Nova seu Planta -2 Hemicicle
CLASS:PUBLIC
END:VEVENT
END:VCALENDAR
