BEGIN:VCALENDAR
PRODID:-//AT Content Types//AT Event//EN
VERSION:1.0
BEGIN:VEVENT
DTSTART:20200123T150000Z
DTEND:20200123T150000Z
DCREATED:20191008T072759Z
UID:ATEvent-0c3cc53b58304fa080dccff2795c207c
SEQUENCE:0
LAST-MODIFIED:20200120T103616Z
SUMMARY:Sessió ordinària del Consell General
LOCATION:Nova seu Planta -2 Hemicicle
PRIORITY:3
TRANSP:0
END:VEVENT
END:VCALENDAR
