BEGIN:VCALENDAR
PRODID:-//AT Content Types//AT Event//EN
VERSION:2.0
METHOD:PUBLISH
BEGIN:VEVENT
DTSTAMP:20260423T155846Z
CREATED:20190523T082231Z
UID:ATEvent-854bc56de4cb4257aa6e0d919c2c0899
LAST-MODIFIED:20190711T063117Z
SUMMARY:Sessió ordinària del Consell General
DTSTART:20190711T140000Z
DTEND:20190711T140000Z
LOCATION:Nova seu Planta -2 Hemicicle
CLASS:PUBLIC
END:VEVENT
END:VCALENDAR
