BEGIN:VCALENDAR
PRODID:-//AT Content Types//AT Event//EN
VERSION:2.0
METHOD:PUBLISH
BEGIN:VEVENT
DTSTAMP:20260421T062332Z
CREATED:20180904T135211Z
UID:ATEvent-e3ed01f2d0af46b0b22aa12a64eff0fa
LAST-MODIFIED:20181012T110721Z
SUMMARY:Sessió ordinària del Consell General
DTSTART:20181018T073000Z
DTEND:20181018T073000Z
LOCATION:Nova seu Planta -2 Hemicicle
CLASS:PUBLIC
END:VEVENT
END:VCALENDAR
