BEGIN:VCALENDAR
PRODID:-//AT Content Types//AT Event//EN
VERSION:1.0
BEGIN:VEVENT
DTSTART:20180517T073000Z
DTEND:20180517T073000Z
DCREATED:20180219T111348Z
UID:ATEvent-24878dc8ed6b404e9775b09b4a707965
SEQUENCE:0
LAST-MODIFIED:20180516T142622Z
SUMMARY:Sessió ordinària del Consell General
LOCATION:Nova seu Planta -2 Hemicicle
PRIORITY:3
TRANSP:0
END:VEVENT
END:VCALENDAR
