BEGIN:VCALENDAR
PRODID:-//AT Content Types//AT Event//EN
VERSION:1.0
BEGIN:VEVENT
DTSTART:20180419T070000Z
DTEND:20180419T070000Z
DCREATED:20180219T074518Z
UID:ATEvent-bc20b18033754dd1a4083cec285a62df
SEQUENCE:0
LAST-MODIFIED:20180413T102542Z
SUMMARY:Sessió ordinària del Consell General
LOCATION:Nova seu Planta -2 Hemicicle
PRIORITY:3
TRANSP:0
END:VEVENT
END:VCALENDAR
