BEGIN:VCALENDAR
PRODID:-//AT Content Types//AT Event//EN
VERSION:1.0
BEGIN:VEVENT
DTSTART:20211221T110000Z
DTEND:20211221T110000Z
DCREATED:20210907T160633Z
UID:ATEvent-9d3c5325f2174e559370b524e36217c8
SEQUENCE:0
LAST-MODIFIED:20211213T160836Z
SUMMARY:Sessió tradicional de Sant Tomàs
LOCATION:Nova seu Planta -2 Hemicicle
PRIORITY:3
TRANSP:0
END:VEVENT
END:VCALENDAR
