BEGIN:VCALENDAR
PRODID:-//AT Content Types//AT Event//EN
VERSION:2.0
METHOD:PUBLISH
BEGIN:VEVENT
DTSTAMP:20260421T150641Z
CREATED:20201126T121226Z
UID:ATEvent-aea6ca4fd1704897b6ddfaae619cf7ab
LAST-MODIFIED:20201202T123142Z
SUMMARY:Sessió ordinària del Consell General
DTSTART:20201204T090000Z
DTEND:20201204T090000Z
CLASS:PUBLIC
END:VEVENT
END:VCALENDAR
