BEGIN:VCALENDAR
PRODID:-//AT Content Types//AT Event//EN
VERSION:2.0
METHOD:PUBLISH
BEGIN:VEVENT
DTSTAMP:20260422T140313Z
CREATED:20160118T121110Z
UID:ATEvent-5534868a92b54782925b5adcb273d773
LAST-MODIFIED:20160118T121224Z
SUMMARY:Presentació de la nova edició del Politar Andorrà d’Antoni Puig
DTSTART:20160119T170000Z
DTEND:20160119T170000Z
LOCATION:Nova seu Planta 0 vestíbul
CLASS:PUBLIC
END:VEVENT
END:VCALENDAR
