BEGIN:VCALENDAR
PRODID:-//AT Content Types//AT Event//EN
VERSION:1.0
BEGIN:VEVENT
DTSTART:20140203T170000Z
DTEND:20140203T180000Z
DCREATED:20140203T092827Z
UID:ATEvent-59d7920f7e0842e59c40c344c8736806
SEQUENCE:0
LAST-MODIFIED:20140203T093654Z
SUMMARY:La subsíndica participa a la inauguració de l'exposició de les Molleres d'Andorra a Sant Julià de Lòria
PRIORITY:3
TRANSP:0
END:VEVENT
END:VCALENDAR
