BEGIN:VCALENDAR
PRODID:-//AT Content Types//AT Event//EN
VERSION:1.0
BEGIN:VEVENT
DTSTART:20140304T110000Z
DTEND:20140304T120000Z
DCREATED:20140304T091119Z
UID:ATEvent-89b921238811421f92f03fde8f49f885
SEQUENCE:0
LAST-MODIFIED:20140304T091124Z
SUMMARY:La subsíndica general presenta el nou portal web del Consell General i de Casa de la Vall
PRIORITY:3
TRANSP:0
END:VEVENT
END:VCALENDAR
