BEGIN:VCALENDAR
PRODID:-//AT Content Types//AT Event//EN
VERSION:2.0
METHOD:PUBLISH
BEGIN:VEVENT
DTSTAMP:20260421T202215Z
CREATED:20140310T085033Z
UID:ATEvent-6bb120b77e0b4966b1a504fd2a1ec0e5
LAST-MODIFIED:20140311T155703Z
SUMMARY:El síndic general presenta el col·loqui del dia de Dona
DTSTART:20140310T183000Z
DTEND:20140310T193000Z
CLASS:PUBLIC
END:VEVENT
END:VCALENDAR
