BEGIN:VCALENDAR
PRODID:-//AT Content Types//AT Event//EN
VERSION:1.0
BEGIN:VEVENT
DTSTART:20150314T190000Z
DTEND:20150314T190000Z
DCREATED:20150311T081428Z
UID:ATEvent-f68519bc25d146f1acd3f097155abc66
SEQUENCE:0
LAST-MODIFIED:20150311T081432Z
SUMMARY:La Casa de la Vall a tot color
PRIORITY:3
TRANSP:0
END:VEVENT
END:VCALENDAR
