BEGIN:VCALENDAR
PRODID:-//AT Content Types//AT Event//EN
VERSION:2.0
METHOD:PUBLISH
BEGIN:VEVENT
DTSTAMP:20260424T183649Z
CREATED:20231006T123434Z
UID:ATEvent-3840c917e9e947d483cf4030ce03f5a0
LAST-MODIFIED:20231006T123441Z
SUMMARY:Jurament membres de la Junta Electoral
DTSTART:20231009T103000Z
DTEND:20231009T110000Z
LOCATION:Casa de la Vall
CLASS:PUBLIC
END:VEVENT
END:VCALENDAR
