BEGIN:VCALENDAR
PRODID:-//AT Content Types//AT Event//EN
VERSION:1.0
BEGIN:VEVENT
DTSTART:20171113T110000Z
DTEND:20171113T110000Z
DCREATED:20171113T105603Z
UID:ATEvent-059b2779b0794655af59113ec2c5f10c
SEQUENCE:0
LAST-MODIFIED:20171113T110049Z
SUMMARY:Jurament
LOCATION:Casa de la Vall - Sala dels passos Perduts
PRIORITY:3
TRANSP:0
END:VEVENT
END:VCALENDAR
