BEGIN:VCALENDAR
PRODID:-//AT Content Types//AT Event//EN
VERSION:2.0
METHOD:PUBLISH
BEGIN:VEVENT
DTSTAMP:20260420T065200Z
CREATED:20220711T152041Z
UID:ATEvent-582f996c0a0348cc813588032196f3e7
LAST-MODIFIED:20220902T105054Z
SUMMARY:Junta de Presidents
DTSTART:20220907T151500Z
DTEND:20220907T151500Z
LOCATION:Nova seu Planta 2 sala de la Junta de Presidents
CLASS:PUBLIC
END:VEVENT
END:VCALENDAR
