BEGIN:VCALENDAR
PRODID:-//AT Content Types//AT Event//EN
VERSION:1.0
BEGIN:VEVENT
DTSTART:20210112T150000Z
DTEND:20210112T150000Z
DCREATED:20201201T174849Z
UID:ATEvent-46f4f3cdc9af4be7843c025084dd3a8c
SEQUENCE:0
LAST-MODIFIED:20210107T075016Z
SUMMARY:Junta de Presidents
LOCATION:Nova seu Planta 2 sala de Junta de Presidents
PRIORITY:3
TRANSP:0
END:VEVENT
END:VCALENDAR
