BEGIN:VCALENDAR
PRODID:-//AT Content Types//AT Event//EN
VERSION:2.0
METHOD:PUBLISH
BEGIN:VEVENT
DTSTAMP:20260419T144912Z
CREATED:20200616T073326Z
UID:ATEvent-c635f5c2aa2446f68f53f1b2fdc14bbe
LAST-MODIFIED:20200616T073901Z
SUMMARY:Junta de Presidents
DTSTART:20200617T160000Z
DTEND:20200617T160000Z
LOCATION:Nova seu Planta 2 sala de Junta de Presidents
CLASS:PUBLIC
END:VEVENT
END:VCALENDAR
