BEGIN:VCALENDAR
PRODID:-//AT Content Types//AT Event//EN
VERSION:2.0
METHOD:PUBLISH
BEGIN:VEVENT
DTSTAMP:20260422T110004Z
CREATED:20200303T185555Z
UID:ATEvent-ad2092ce38c9482da64906a1bc4ae0c9
LAST-MODIFIED:20200421T155754Z
SUMMARY:Junta de Presidents
DTSTART:20200407T140000Z
DTEND:20200407T140000Z
LOCATION:Nova seu Planta 2 sala de Junta de Presidents
CLASS:PUBLIC
END:VEVENT
END:VCALENDAR
