BEGIN:VCALENDAR
PRODID:-//AT Content Types//AT Event//EN
VERSION:2.0
METHOD:PUBLISH
BEGIN:VEVENT
DTSTAMP:20260419T144825Z
CREATED:20190917T131456Z
UID:ATEvent-3f8d968f183844988e87a8bc8f2a1a4c
LAST-MODIFIED:20191002T112540Z
SUMMARY:Junta de Presidents
DTSTART:20191007T141500Z
DTEND:20191007T141500Z
LOCATION:Nova seu Planta 2 sala de Junta de Presidents
CLASS:PUBLIC
END:VEVENT
END:VCALENDAR
