BEGIN:VCALENDAR
PRODID:-//AT Content Types//AT Event//EN
VERSION:1.0
BEGIN:VEVENT
DTSTART:20190909T140000Z
DTEND:20190909T140000Z
DCREATED:20190709T165629Z
UID:ATEvent-0133adb791d74ec9b5bfd908c8941907
SEQUENCE:0
LAST-MODIFIED:20190905T131324Z
SUMMARY:Junta de Presidents
LOCATION:Nova seu Planta 2 sala Junta de Presidents
PRIORITY:3
TRANSP:0
END:VEVENT
END:VCALENDAR
