BEGIN:VCALENDAR
PRODID:-//AT Content Types//AT Event//EN
VERSION:2.0
METHOD:PUBLISH
BEGIN:VEVENT
DTSTAMP:20260420T145702Z
CREATED:20190508T070814Z
UID:ATEvent-fe856f99d1a94d47966a55eae6bc3fdc
LAST-MODIFIED:20190509T170323Z
SUMMARY:Junta de Presidents
DTSTART:20190510T100000Z
DTEND:20190510T100000Z
LOCATION:Nova seu Planta 2 - sala de Junta de Presidents
CLASS:PUBLIC
END:VEVENT
END:VCALENDAR
