BEGIN:VCALENDAR
PRODID:-//AT Content Types//AT Event//EN
VERSION:1.0
BEGIN:VEVENT
DTSTART:20170503T140000Z
DTEND:20170503T140000Z
DCREATED:20170407T113727Z
UID:ATEvent-646b1a2aa1c340d0a425562030712967
SEQUENCE:0
LAST-MODIFIED:20170427T131108Z
SUMMARY:Junta de Presidents
LOCATION:Nova seu planta 2 sala de la Junta de Presidents
PRIORITY:3
TRANSP:0
END:VEVENT
END:VCALENDAR
